BEGIN:VCALENDAR
X-WR-TIMEZONE:Europe/Berlin
X-WR-CALNAME:rbb-Kalender
VERSION:2.0
METHOD:PUBLISH
CALSCALE:GREGORIAN
PRODID:rbb-CMS DAY
BEGIN:VEVENT
CLASS:PUBLIC
URL:http://www.rbb-online.de/content/rbb/rbb/rbbpraxis/archiv/20131106_2015/hautpflege.html
DTEND:20131106T210000
DTSTART:20131106T201500
UID:/content/rbb/rbb/rbbpraxis/archiv/20131106_2015/hautpflege
DTSTAMP:20140406T183805
DESCRIPTION:Wie kann man sich trotz einer Hauterkrankung schminken? Besonders Frauen experimentieren oft mit falschem Puder oder Cremes. Die rbb Praxis zeigt, worauf es beim Make-up für beanspruchte Haut ankommt.\n\n\n
SUMMARY:Make-up für kranke Haut
END:VEVENT
END:VCALENDAR
