BEGIN:VCALENDAR
X-WR-TIMEZONE:Europe/Berlin
X-WR-CALNAME:rbb-Kalender
VERSION:2.0
METHOD:PUBLISH
CALSCALE:GREGORIAN
PRODID:rbb-CMS DAY
BEGIN:VEVENT
CLASS:PUBLIC
URL:http://www.rbb-online.de/content/rbb/rbb/rbbpraxis/archiv/20131106_2015/lichttherapie.html
DTEND:20131106T210000
DTSTART:20131106T201500
UID:/content/rbb/rbb/rbbpraxis/archiv/20131106_2015/lichttherapie
DTSTAMP:20140406T183717
DESCRIPTION:Vor einer guten Woche wurden die Uhren von der Sommerzeit auf die Winterzeit umgestellt. Spätestens seitdem ist klar: Der Herbst ist da und läutet die dunkle Winterperiode ein. Für etwa jeden Vierten hierzulande ist diese Zeit auch mit dunklen Gedanken verbunden: die Winterdepression hat Hochsaison. Doch die Lichttherapie kann helfen.\n\n\n
SUMMARY:Licht gegen Novemberblues
END:VEVENT
END:VCALENDAR
