BEGIN:VCALENDAR
X-WR-TIMEZONE:Europe/Berlin
X-WR-CALNAME:rbb-Kalender
VERSION:2.0
METHOD:PUBLISH
CALSCALE:GREGORIAN
PRODID:rbb-CMS DAY
BEGIN:VEVENT
CLASS:PUBLIC
URL:http://www.rbb-online.de/content/rbb/rbb/rbbpraxis/archiv/20131113_2015/Besser-Schlafen-im-Winter.html
DTEND:20131113T210000
DTSTART:20131113T201500
UID:/content/rbb/rbb/rbbpraxis/archiv/20131113_2015/Besser-Schlafen-im-Winter
DTSTAMP:20140406T185350
DESCRIPTION:Übermüdet, schlaflos, matt – viele Menschen finden in der kalten Jahreszeit keinen ruhigen Schlaf. Grund dafür ist mangelnde Bewegung und der Lichtentzug, der es unserem Körper erschwert, den Tag- und Nachtrhythmus zu koordinieren. Genau jetzt stellen wir auf den Energiesparmodus um und benötigen Experten zufolge durchschnittlich 30 Minuten mehr Schlaf. rbb Praxis gibt Tipps, damit die Nächte länger und erholsamer werden.\n\n\n
SUMMARY:Besser Schlafen im Winter
END:VEVENT
END:VCALENDAR
