BEGIN:VCALENDAR
X-WR-TIMEZONE:Europe/Berlin
X-WR-CALNAME:rbb-Kalender
VERSION:2.0
METHOD:PUBLISH
CALSCALE:GREGORIAN
PRODID:rbb-CMS DAY
BEGIN:VEVENT
CLASS:PUBLIC
URL:http://www.rbb-online.de/content/rbb/rbb/rbbpraxis/archiv/20131113_2015/psychotherapie_therapeuten_finden1.html
DTEND:20131113T210000
DTSTART:20131113T201500
UID:/content/rbb/rbb/rbbpraxis/archiv/20131113_2015/psychotherapie_therapeuten_finden1
DTSTAMP:20140407T134237
DESCRIPTION: Psychische Krankheiten haben inzwischen Herz-Kreislauf-Erkrankungen als Volkskrankheit Nummer Eins abgelöst und können jeden treffen, egal ob männlich oder weiblich - alt oder jung. Doch obwohl so viele Menschen damit zu tun haben, scheuen sich viele, es zuzugeben und erst Recht das Gespräch mit einem Therapeuten. Doch auch diejenigen, die sich professionelle Hilfe suchen wollen, kommen schnell an ihre Grenzen.\n\n
SUMMARY:Psychotherapie: Schwierige Suche
END:VEVENT
END:VCALENDAR
