BEGIN:VCALENDAR
X-WR-TIMEZONE:Europe/Berlin
X-WR-CALNAME:rbb-Kalender
VERSION:2.0
METHOD:PUBLISH
CALSCALE:GREGORIAN
PRODID:rbb-CMS DAY
BEGIN:VEVENT
CLASS:PUBLIC
URL:http://www.rbb-online.de/content/rbb/rbb/rbbpraxis/archiv/20131127_2015/erkaeltungsmittel.html
DTEND:20131127T210000
DTSTART:20131127T201500
UID:/content/rbb/rbb/rbbpraxis/archiv/20131127_2015/erkaeltungsmittel
DTSTAMP:20140406T184609
DESCRIPTION:Stiftung Warentest hat nachgefragt: Wie gut helfen Kombimittel gegen Erkältungen? Die rbb Praxis fasst die Antworten zusammen\n\n\n
SUMMARY:Erkältungsmittel im Test: Stiftung Warentest
END:VEVENT
END:VCALENDAR
