BEGIN:VCALENDAR
X-WR-TIMEZONE:Europe/Berlin
X-WR-CALNAME:rbb-Kalender
VERSION:2.0
METHOD:PUBLISH
CALSCALE:GREGORIAN
PRODID:rbb-CMS DAY
BEGIN:VEVENT
CLASS:PUBLIC
URL:http://www.rbb-online.de/content/rbb/rbb/rbbpraxis/archiv/20131127_2015/gedaechtnistraining.html
DTEND:20131127T210000
DTSTART:20131127T201500
UID:/content/rbb/rbb/rbbpraxis/archiv/20131127_2015/gedaechtnistraining
DTSTAMP:20140406T184640
DESCRIPTION:Das Seniorenpflegeheim DOMICIL – Am Schlosspark in Berlin macht den Versuch: 40 Demenzkranke spielen mit modernen Tablets Quiz – die kognitive Aktivierung soll die für die Krankheit typische innere Unruhe reduzieren. Klar ist jetzt schon: das Spielen macht den Senioren Spaß.\n\n\n
SUMMARY:Hilft Spielen gegen Demenz?
END:VEVENT
END:VCALENDAR
