BEGIN:VCALENDAR
X-WR-TIMEZONE:Europe/Berlin
X-WR-CALNAME:rbb-Kalender
VERSION:2.0
METHOD:PUBLISH
CALSCALE:GREGORIAN
PRODID:rbb-CMS DAY
BEGIN:VEVENT
LOCATION:Das Gesundheitsmagazin
CLASS:PUBLIC
URL:http://www.rbb-online.de/content/rbb/rbb/rbbpraxis/archiv/20131204_2015.html
DTEND:20131204T210000
DTSTART:20131204T201500
UID:/content/rbb/rbb/rbbpraxis/archiv/20131204_2015
DTSTAMP:20140405T201300
DESCRIPTION:+++ Riechstörungen +++ Live aus der Laserzentrum Elisabeth-Klinik +++ Stammzellspende +++ Gesundes Wintergemüse +++ Kampf gegen Krankenhauskeime +++\n\n\n
SUMMARY:rbb Praxis 04.12.2013 20:15
END:VEVENT
END:VCALENDAR
