BEGIN:VCALENDAR
X-WR-TIMEZONE:Europe/Berlin
X-WR-CALNAME:rbb-Kalender
VERSION:2.0
METHOD:PUBLISH
CALSCALE:GREGORIAN
PRODID:rbb-CMS DAY
BEGIN:VEVENT
LOCATION:Das Gesundheitsmagazin
CLASS:PUBLIC
URL:http://www.rbb-online.de/content/rbb/rbb/rbbpraxis/archiv/20140115_2015.html
DTEND:20140115T210000
DTSTART:20140115T201500
UID:/content/rbb/rbb/rbbpraxis/archiv/20140115_2015
DTSTAMP:20140405T200708
DESCRIPTION:+++ Künstliches Koma +++ Lungenentzündung +++ Starker Kerl, schwaches Herz +++ Ständiger Harndrang +++ Exotische Früchte +++\n\n\n
SUMMARY:rbb Praxis 15.01.2014 20:15
END:VEVENT
END:VCALENDAR
