BEGIN:VCALENDAR
X-WR-TIMEZONE:Europe/Berlin
X-WR-CALNAME:rbb-Kalender
VERSION:2.0
METHOD:PUBLISH
CALSCALE:GREGORIAN
PRODID:rbb-CMS DAY
BEGIN:VEVENT
CLASS:PUBLIC
URL:http://www.rbb-online.de/content/rbb/rbb/rbbpraxis/archiv/20140115_2015/Koma.html
DTEND:20140115T210000
DTSTART:20140115T201500
UID:/content/rbb/rbb/rbbpraxis/archiv/20140115_2015/Koma
DTSTAMP:20140406T182330
DESCRIPTION:Je nach Bedarf dauert ein künstliches Koma Stunden, Tage oder gar Wochen. Mit welchen Folgeschäden der Patient wieder aufwacht, hängt in erster Linie vom Ausmaß der zugrunde liegenden Verletzung ab – und nicht vom künstlichen Koma selbst.\n
SUMMARY:Künstliches Koma
END:VEVENT
END:VCALENDAR
