BEGIN:VCALENDAR
X-WR-TIMEZONE:Europe/Berlin
X-WR-CALNAME:rbb-Kalender
VERSION:2.0
METHOD:PUBLISH
CALSCALE:GREGORIAN
PRODID:rbb-CMS DAY
BEGIN:VEVENT
CLASS:PUBLIC
URL:http://www.rbb-online.de/content/rbb/rbb/rbbpraxis/archiv/20140115_2015/exotische-fruechte.html
DTEND:20140115T210000
DTSTART:20140115T201500
UID:/content/rbb/rbb/rbbpraxis/archiv/20140115_2015/exotische-fruechte
DTSTAMP:20140406T182234
DESCRIPTION:Vor allem im Winter, wenn es kaum noch einheimisches Obst gibt, füllen mehr exotische Früchte die Supermarkt-Regale. Physalis, Flugmango, Papaya oder Granatapfel - wie gesund sind diese Früchte wirklich?\n\n\n
SUMMARY:Exotische Früchte: eine gute Vitaminquelle im Winter?
END:VEVENT
END:VCALENDAR
