BEGIN:VCALENDAR
X-WR-TIMEZONE:Europe/Berlin
X-WR-CALNAME:rbb-Kalender
VERSION:2.0
METHOD:PUBLISH
CALSCALE:GREGORIAN
PRODID:rbb-CMS DAY
BEGIN:VEVENT
CLASS:PUBLIC
URL:http://www.rbb-online.de/content/rbb/rbb/rbbpraxis/archiv/20140122_2015/Antibiotikaresistenz_bei_Nierenbeckenentzuendung.html
DTEND:20140122T210000
DTSTART:20140122T201500
UID:/content/rbb/rbb/rbbpraxis/archiv/20140122_2015/Antibiotikaresistenz_bei_Nierenbeckenentzuendung
DTSTAMP:20140406T182928
DESCRIPTION:Anita W. aus Senftenberg hatte bereits mehrfach Nierenbeckenentzündungen. Die Dramatik: Die Keime, die jeweils als Auslöser für die Infektionen identifiziert werden, entwickeln zunehmend Resistenzen gegen die gängigen Antibiotika. Die Ärzte müssen jedesmal herausfinden, welches Antibiotikum überhaupt noch wirkt, um eine lebensgefährliche Sepsis, bei der sich die Keime über die Blutbahn im ganzen Körper ausbreiten, zu verhindern.\n\n\n
SUMMARY:Gefährliche Antibiotika-Resistenz bei Nierenbeckenentzündung
END:VEVENT
END:VCALENDAR
