BEGIN:VCALENDAR
X-WR-TIMEZONE:Europe/Berlin
X-WR-CALNAME:rbb-Kalender
VERSION:2.0
METHOD:PUBLISH
CALSCALE:GREGORIAN
PRODID:rbb-CMS DAY
BEGIN:VEVENT
CLASS:PUBLIC
URL:http://www.rbb-online.de/content/rbb/rbb/rbbpraxis/archiv/20140122_2015/LiDi_Komplikationen_nach_Gelenkersatz.html
DTEND:20140122T210000
DTSTART:20140122T201500
UID:/content/rbb/rbb/rbbpraxis/archiv/20140122_2015/LiDi_Komplikationen_nach_Gelenkersatz
DTSTAMP:20140406T182856
DESCRIPTION:Das Knie als größtes und am meisten beanspruchtes Gelenk ist es auch besonders anfällig für Abnutzungserscheinungen und Verletzungen. Bringen Schmerzmittel und Physiotherapie keine Linderung, kann ein künstliches Kniegelenk helfen. Doch auch die modernste Prothese ist immer nur ein "Ersatz"; die Funktion des körpereigenen Gelenkes kann es nur annähernd erreichen. Wir stellen eine Betroffene vor, deren Knie nach dem Austausch des Gelenks unbeweglicher geworden ist. Welche Ursachen gibt es für so eine Komplikation und wie kann der Patientin geholfen werden?\n\n\n
SUMMARY:Live-Diagnose: Komplikationen nach Gelenkersatz
END:VEVENT
END:VCALENDAR
