BEGIN:VCALENDAR
X-WR-TIMEZONE:Europe/Berlin
X-WR-CALNAME:rbb-Kalender
VERSION:2.0
METHOD:PUBLISH
CALSCALE:GREGORIAN
PRODID:rbb-CMS DAY
BEGIN:VEVENT
CLASS:PUBLIC
URL:http://www.rbb-online.de/content/rbb/rbb/rbbpraxis/archiv/20140129_2015/schwindeltherapie.html
DTEND:20140129T210000
DTSTART:20140129T201500
UID:/content/rbb/rbb/rbbpraxis/archiv/20140129_2015/schwindeltherapie
DTSTAMP:20140406T182616
DESCRIPTION:Schwindel kann unterschiedliche Ursachen haben. Ihnen auf die Spur zu kommen, ist oft Detektivarbeit – und nicht jeder Arzt hat die entsprechenden Untersuchungsgeräte. Beim Morbus Menière beispielsweise ist Schwindel nur ein Teil der Symptome, so dass diese Erkrankung häufig verkannt wird.\n\n\n
SUMMARY:Wenn sich alles dreht – was tun gegen Schwindel? 
END:VEVENT
END:VCALENDAR
