BEGIN:VCALENDAR
X-WR-TIMEZONE:Europe/Berlin
X-WR-CALNAME:rbb-Kalender
VERSION:2.0
METHOD:PUBLISH
CALSCALE:GREGORIAN
PRODID:rbb-CMS DAY
BEGIN:VEVENT
CLASS:PUBLIC
URL:http://www.rbb-online.de/content/rbb/rbb/rbbpraxis/archiv/20140212_2015/Brustkrebs.html
DTEND:20140212T210000
DTSTART:20140212T201500
UID:/content/rbb/rbb/rbbpraxis/archiv/20140212_2015/Brustkrebs
DTSTAMP:20140405T202055
DESCRIPTION:Die US-Schauspielerin Angelina Jolie gehört zu den Frauen, in deren Familie das Risiko von Brust- und Eierstockkrebs vererbt wird. Sie hat sich deshalb vorsorglich die Brüste amputieren lassen. Für welche Frauen Gentest und vorsorgliche Amputation tatsächlich sinnvoll sind – darüber berichtet die rbb Praxis.\n\n\n
SUMMARY:Was tun bei familiärem Brustkrebs?
END:VEVENT
END:VCALENDAR
