BEGIN:VCALENDAR
X-WR-TIMEZONE:Europe/Berlin
X-WR-CALNAME:rbb-Kalender
VERSION:2.0
METHOD:PUBLISH
CALSCALE:GREGORIAN
PRODID:rbb-CMS DAY
BEGIN:VEVENT
LOCATION:Das Gesundheitsmagazin
CLASS:PUBLIC
URL:http://www.rbb-online.de/content/rbb/rbb/rbbpraxis/archiv/20140226_2015.html
DTEND:20140226T210000
DTSTART:20140226T201500
UID:/content/rbb/rbb/rbbpraxis/archiv/20140226_2015
DTSTAMP:20140404T230937
DESCRIPTION:+++ Das Exo-Skelett - Gelähmte lernen wieder laufen +++ Nur das Knie kommt in die Röhre – das Teil-Körper MRT +++ "Stummer" Schlaganfall" – Gefahren einer unentdeckten Durchblutungsstörung +++ Schnelle Hilfe bei Depressionen +++ Serie: Wie gesund ist eigentlich … Salat? +++\n\n\n
SUMMARY:rbb Praxis 26.02.2014 20:15
END:VEVENT
END:VCALENDAR
