BEGIN:VCALENDAR
X-WR-TIMEZONE:Europe/Berlin
X-WR-CALNAME:rbb-Kalender
VERSION:2.0
METHOD:PUBLISH
CALSCALE:GREGORIAN
PRODID:rbb-CMS DAY
BEGIN:VEVENT
CLASS:PUBLIC
URL:http://www.rbb-online.de/content/rbb/rbb/rbbpraxis/archiv/20140226_2015/Ketamin-bei-Depressionen.html
DTEND:20140226T210000
DTSTART:20140226T201500
UID:/content/rbb/rbb/rbbpraxis/archiv/20140226_2015/Ketamin-bei-Depressionen
DTSTAMP:20140404T225120
DESCRIPTION:Depressionen sind extrem belastend für die Betroffenen. Oft dauert es Wochen bis Monate, bis die Medikamente wirken. Bei besonders schweren Formen einer Depression scheint mitunter jede Hilfe aussichtlos. Neue Studien zeigen, dass ausgerechnet eine als Partydroge bekannte Substanz bei schweren Depressionen helfen könnte: Ketamin. Die ersten kontrollierten Wirksamkeitsstudien mit Ketamin führten Wissenschaftler in den USA durch, u. a. am National Institute of Mental Health (NIMH). Jetzt sind auch Psychiater der Berliner Charité dabei, den Wirkstoff bei Depressionen zu untersuchen.\n\n\n
SUMMARY:Schnelle Hilfe bei Depressionen 
END:VEVENT
END:VCALENDAR
