BEGIN:VCALENDAR
X-WR-TIMEZONE:Europe/Berlin
X-WR-CALNAME:rbb-Kalender
VERSION:2.0
METHOD:PUBLISH
CALSCALE:GREGORIAN
PRODID:rbb-CMS DAY
BEGIN:VEVENT
CLASS:PUBLIC
URL:http://www.rbb-online.de/content/rbb/rbb/rbbpraxis/archiv/20140226_2015/stummer-schlaganfall.html
DTEND:20140226T210000
DTSTART:20140226T201500
UID:/content/rbb/rbb/rbbpraxis/archiv/20140226_2015/stummer-schlaganfall
DTSTAMP:20140404T225021
DESCRIPTION:Durch verbesserte Bildgebungsverfahren diagnostizieren Ärzte vermehrt sogenannte "stumme" Schlaganfälle. Hierbei verstopfen Blutgefäße in weniger wichtigen Bereichen des Gehirns, so dass deren Folgen nicht sofort bemerkt wird. Typische Schlaganfallzeichen wie Lähmungen oder Sprachstörungen bleiben aus. Allerdings sind "stumme" Schlaganfälle trotzdem gefährlich, denn Menschen, die mehrere stumme Schlaganfälle hatten, haben ein höheres Risiko, eine Demenz zu entwickeln. Die rbb Praxis sensibilisiert für diese unterschätzte Form des Schlaganfalls. \n
SUMMARY:"Stummer" Schlaganfall" – Gefahren einer unentdeckten Durchblutungsstörung
END:VEVENT
END:VCALENDAR
