BEGIN:VCALENDAR
X-WR-TIMEZONE:Europe/Berlin
X-WR-CALNAME:rbb-Kalender
VERSION:2.0
METHOD:PUBLISH
CALSCALE:GREGORIAN
PRODID:rbb-CMS DAY
BEGIN:VEVENT
CLASS:PUBLIC
URL:http://www.rbb-online.de/content/rbb/rbb/rbbpraxis/archiv/20140305_2015/Schluckbeschwerden_Bauchschmerz.html
DTEND:20140305T210000
DTSTART:20140305T201500
UID:/content/rbb/rbb/rbbpraxis/archiv/20140305_2015/Schluckbeschwerden_Bauchschmerz
DTSTAMP:20140404T225755
DESCRIPTION:Wenn es im Bauch drückt oder grummelt, ist die Diagnose selten eindeutig. Magen- und Darmspiegelung, Kernspin oder CT sollen bei der Suche nach der Ursache helfen, bleiben jedoch allzu oft ohne Ergebnisse. Dabei können Bauchschmerzen manchmal mit ganz einfachen Mitteln behandelt werden, wenn man an die richtige Erkrankung denkt.\n\n\n
SUMMARY:Unklare Bauchschmerzen – was steckt dahinter, wenn Speiseröhre und Magen streiken?
END:VEVENT
END:VCALENDAR
