BEGIN:VCALENDAR
X-WR-TIMEZONE:Europe/Berlin
X-WR-CALNAME:rbb-Kalender
VERSION:2.0
METHOD:PUBLISH
CALSCALE:GREGORIAN
PRODID:rbb-CMS DAY
BEGIN:VEVENT
CLASS:PUBLIC
URL:http://www.rbb-online.de/content/rbb/rbb/rbbpraxis/archiv/20140305_2015/Therapien_bei_Haarausfall.html
DTEND:20140305T210000
DTSTART:20140305T201500
UID:/content/rbb/rbb/rbbpraxis/archiv/20140305_2015/Therapien_bei_Haarausfall
DTSTAMP:20140404T225148
DESCRIPTION:Männer müssen sich heutzutage nicht mehr mit erblich bedingtem Haarausfall abfinden - schließlich gibt es verschiedene wirksame Behandlungsmethoden. Doch nicht jede Methode ist auch für jeden geeignet: Zu den Risiken und Nebenwirkungen klärt Sie die rbb Praxis auf.\n\n\n
SUMMARY:Kampf dem Haarschwund
END:VEVENT
END:VCALENDAR
