BEGIN:VCALENDAR
X-WR-TIMEZONE:Europe/Berlin
X-WR-CALNAME:rbb-Kalender
VERSION:2.0
METHOD:PUBLISH
CALSCALE:GREGORIAN
PRODID:rbb-CMS DAY
BEGIN:VEVENT
LOCATION:Das Gesundheitsmagazin
CLASS:PUBLIC
URL:http://www.rbb-online.de/content/rbb/rbb/rbbpraxis/archiv/20140312_2015.html
DTEND:20140312T210000
DTSTART:20140312T201500
UID:/content/rbb/rbb/rbbpraxis/archiv/20140312_2015
DTSTAMP:20140404T230251
DESCRIPTION:+++ Live-Diagnose im Studio – Augen in Not? +++ Hepatits C - Durchbruch in der Therapie +++ Heilfasten - Gesundheit durch Verzicht? +++ Rippenbruch - erste Hilfe gegen den Schmerz +++ Sonnencreme oder Vitamin D-Synthese? +++ Hilfsmittel für Menschen mit Behinderungen +++\n\n\n
SUMMARY:rbb Praxis 12.03.2014 20:15
END:VEVENT
END:VCALENDAR
