BEGIN:VCALENDAR
X-WR-TIMEZONE:Europe/Berlin
X-WR-CALNAME:rbb-Kalender
VERSION:2.0
METHOD:PUBLISH
CALSCALE:GREGORIAN
PRODID:rbb-CMS DAY
BEGIN:VEVENT
CLASS:PUBLIC
URL:http://www.rbb-online.de/content/rbb/rbb/rbbpraxis/archiv/20140312_2015/Hepatitis_C_Medikament.html
DTEND:20140312T210000
DTSTART:20140312T201500
UID:/content/rbb/rbb/rbbpraxis/archiv/20140312_2015/Hepatitis_C_Medikament
DTSTAMP:20140404T230037
DESCRIPTION:Es war die größte medizinische Katastrophe der DDR: Tausende Schwangere wurden Ende der siebziger Jahre mit Hepatitis C infiziert. Neben vielen Todesfällen warteten Unzählige Jahrzehnte auf eine wirksame Therapie, gemeinsam mit anderen Betroffenen weltweit. Vielen blieb nur eine Lebertransplantation als letzte Rettung. Jetzt macht ein neues Medikament Furore, das endlich einen Durchbruch verspricht. Die rbb Praxis fragt nach.\n\n\n
SUMMARY:Hepatitis C – endlich Durchbruch in der Therapie
END:VEVENT
END:VCALENDAR
