BEGIN:VCALENDAR
X-WR-TIMEZONE:Europe/Berlin
X-WR-CALNAME:rbb-Kalender
VERSION:2.0
METHOD:PUBLISH
CALSCALE:GREGORIAN
PRODID:rbb-CMS DAY
BEGIN:VEVENT
CLASS:PUBLIC
URL:http://www.rbb-online.de/content/rbb/rbb/rbbpraxis/archiv/20140312_2015/Makuladegeneration.html
DTEND:20140312T210000
DTSTART:20140312T201500
UID:/content/rbb/rbb/rbbpraxis/archiv/20140312_2015/Makuladegeneration
DTSTAMP:20140404T230356
DESCRIPTION:Lässt das Sehvermögen uns im Stich, ist das beängstigend. Bei vielen Augenerkrankungen passiert das schleichend, die Betroffenen merken es erst spät. Das verschlechtert mitunter die Therapieaussichten. In der rbb Praxis steht heute ein hochmodernes Diagnostik-Gerät, das Augen per Laser untersucht. Es entdeckt schon früheste Anzeichen der sogenannten Makuladegeneration - einer der häufigsten Ursachen für Erblindung. Eine Patientin ist in der Praxis zu Gast, die wissen möchte, woran es liegt, dass ihr Sehvermögen nachlässt.\n
SUMMARY:Live-Diagnose im Studio - Augen in Not?
END:VEVENT
END:VCALENDAR
