BEGIN:VCALENDAR
X-WR-TIMEZONE:Europe/Berlin
X-WR-CALNAME:rbb-Kalender
VERSION:2.0
METHOD:PUBLISH
CALSCALE:GREGORIAN
PRODID:rbb-CMS DAY
BEGIN:VEVENT
CLASS:PUBLIC
URL:http://www.rbb-online.de/content/rbb/rbb/rbbpraxis/archiv/20140319_2015/brustkrebs-PET-CT.html
DTEND:20140319T210000
DTSTART:20140319T201500
UID:/content/rbb/rbb/rbbpraxis/archiv/20140319_2015/brustkrebs-PET-CT
DTSTAMP:20140404T224948
DESCRIPTION:Die PET-CT ist eines der modernsten Untersuchungsverfahren, das derzeit existiert. Auch bei der Brustkrebs-Diagnostik kann sie eingesetzt werden. Manchmal entdeckt sie Tumore oder Metastasen, die bei Standard-Diagnose-Verfahren nicht gesehen wurden.\n\n\n
SUMMARY:High-Tech bei Brustkrebs: Wer bekommt eine PET-CT?
END:VEVENT
END:VCALENDAR
