BEGIN:VCALENDAR
X-WR-TIMEZONE:Europe/Berlin
X-WR-CALNAME:rbb-Kalender
VERSION:2.0
METHOD:PUBLISH
CALSCALE:GREGORIAN
PRODID:rbb-CMS DAY
BEGIN:VEVENT
CLASS:PUBLIC
URL:http://www.rbb-online.de/content/rbb/rbb/rbbpraxis/archiv/20140319_2015/pollenallergien-was-dagegen-tun.html
DTEND:20140319T210000
DTSTART:20140319T201500
UID:/content/rbb/rbb/rbbpraxis/archiv/20140319_2015/pollenallergien-was-dagegen-tun
DTSTAMP:20140404T231000
DESCRIPTION:Am 20. März ist Frühlingsanfang. Und durch den milden Winter ist die Pollenbelastung jetzt schon hoch und viel früher als sonst. Was können Allergiker jetzt noch machen, um die Pollen und die dadurch ausgelösten Allergien wirksam zu bekämpfen? Ayurvedische Kost und Yoga helfen genauso wie kleine Tipps für den allergischen Alltag.\n\n\n
SUMMARY:Allergien – was kann man jetzt noch machen?
END:VEVENT
END:VCALENDAR
