BEGIN:VCALENDAR
X-WR-TIMEZONE:Europe/Berlin
X-WR-CALNAME:rbb-Kalender
VERSION:2.0
METHOD:PUBLISH
CALSCALE:GREGORIAN
PRODID:rbb-CMS DAY
BEGIN:VEVENT
CLASS:PUBLIC
URL:http://www.rbb-online.de/content/rbb/rbb/rbbpraxis/archiv/20140326_2015/wenn_die_Pumpe_versagt_herzschwaeche.html
DTEND:20140326T210000
DTSTART:20140326T201500
UID:/content/rbb/rbb/rbbpraxis/archiv/20140326_2015/wenn_die_Pumpe_versagt_herzschwaeche
DTSTAMP:20140404T230329
DESCRIPTION:Allein in Deutschland leiden laut Schätzungen zwei bis drei Millionen Menschen an einem schwachen Herzen. Herzschwäche ist die Folge von Bluthochdruck, Herzinfarkt und anderen Herzerkrankungen. Der Film zeigt, wie differenziert die Herzschwäche in unserer Region behandelt werden kann und welche innovativen Konzepte Ärzte anwenden, um ein Fortschreiten der Erkrankung zu verhindern.\n\n\n
SUMMARY:Wenn die Pumpe versagt - Hilfe bei Herzschwäche
END:VEVENT
END:VCALENDAR
