BEGIN:VCALENDAR
X-WR-TIMEZONE:Europe/Berlin
X-WR-CALNAME:rbb-Kalender
VERSION:2.0
METHOD:PUBLISH
CALSCALE:GREGORIAN
PRODID:rbb-CMS DAY
BEGIN:VEVENT
CLASS:PUBLIC
URL:http://www.rbb-online.de/content/rbb/rbb/rbbpraxis/archiv/20140402_2015/ctk1.html
DTEND:20140402T210000
DTSTART:20140402T201500
UID:/content/rbb/rbb/rbbpraxis/archiv/20140402_2015/ctk1
DTSTAMP:20140404T224902
DESCRIPTION:Es war die Zeit der Eisenbahnunglücke, der explodierenden Dampfmaschinen und des Ersten Weltkrieges: Im April 1914 nahm der Unfallmediziner Carl Thiem in Cottbus ein Krankenhaus in Betrieb, durch das die Unfallheilkunde zu einer bis dahin ungeahnten Blüte kam. Trotz seiner wechselvollen Geschichte blieb Südbrandenburgs größtes Krankenhaus bis heute diesem Erbe treu. In der Notaufnahme und im Operationssaal kämpfen auf der Höhe ihrer Zeit Mediziner um das Leben Verunglückter in Brandenburg.\n\n\n
SUMMARY:100 Jahre Unfallheilkunde in Cottbus
END:VEVENT
END:VCALENDAR
