BEGIN:VCALENDAR
X-WR-TIMEZONE:Europe/Berlin
X-WR-CALNAME:rbb-Kalender
VERSION:2.0
METHOD:PUBLISH
CALSCALE:GREGORIAN
PRODID:rbb-CMS DAY
BEGIN:VEVENT
CLASS:PUBLIC
URL:http://www.rbb-online.de/content/rbb/rbb/rbbpraxis/archiv/rbb_praxis_fernsehen7/weniger_essen___laenger.html
DTEND:20131106T210000
DTSTART:20131106T210000
UID:/content/rbb/rbb/rbbpraxis/archiv/rbb_praxis_fernsehen7/weniger_essen___laenger
DTSTAMP:20140406T193839
DESCRIPTION:Niemals zuvor gab es so viele Menschen mit Übergewicht und seinen Folgen wie in unserer Zeit: Diabetes, Bluthochdruck, Herzkreislaufleiden liegen in den Krankheitsstatistiken auf den vordersten Plätzen und künden davon, dass noch immer zu viele Menschen lieber zu viel als ausreichend oder gar zu wenig essen.\n
SUMMARY:Weniger essen - länger leben
END:VEVENT
END:VCALENDAR
