BEGIN:VCALENDAR
X-WR-TIMEZONE:Europe/Berlin
X-WR-CALNAME:rbb-Kalender
VERSION:2.0
METHOD:PUBLISH
CALSCALE:GREGORIAN
PRODID:rbb-CMS DAY
BEGIN:VEVENT
CLASS:PUBLIC
URL:http://www.rbb-online.de/content/rbb/rbb/rbbpraxis/archiv/rbb_praxis_fernsehen92/leben_nach_dem_schlaganfall.html
DTEND:20130417T201500
DTSTART:20130417T201500
UID:/content/rbb/rbb/rbbpraxis/archiv/rbb_praxis_fernsehen92/leben_nach_dem_schlaganfall
DTSTAMP:20140406T184143
DESCRIPTION:Egal, wann es geschieht – mitten bei der Arbeit im Stall, in der Schlosserei, im Büro, beim Abendessen oder im Urlaub – fast immer kommt ein Schlaganfall plötzlich und unerwartet. Viele Betroffene werden schnell und effizient versorgt. Doch mitunter werden die Anzeichen eines Schlaganfalls unterschätzt und falsch gedeutet, so dass den Betroffenen nicht in jenem Zeitfenster geholfen wird, in dem man das bedrohte Hirngewebe noch retten kann. So sind die Krankheits-Verläufe bei gleicher Diagnose oft sehr unterschiedlich. Der Film begleitet Schlaganfall-Patienten aus Berlin und Brandenburg:\n
SUMMARY:Leben nach dem Schlaganfall
END:VEVENT
END:VCALENDAR
