BEGIN:VCALENDAR
X-WR-TIMEZONE:Europe/Berlin
X-WR-CALNAME:rbb-Kalender
VERSION:2.0
METHOD:PUBLISH
CALSCALE:GREGORIAN
PRODID:rbb-CMS DAY
BEGIN:VEVENT
CLASS:PUBLIC
URL:http://www.rbb-online.de/content/rbb/rbb/rbbpraxis/archiv/rbb_praxis_fernsehen93/nachtblindheit.html
DTEND:20130424T201500
DTSTART:20130424T201500
UID:/content/rbb/rbb/rbbpraxis/archiv/rbb_praxis_fernsehen93/nachtblindheit
DTSTAMP:20140406T182153
DESCRIPTION:Wenn man nachts beim Auto fahren schlecht sieht, sich von den Scheinwerfern des Gegenverkehrs geblendet fühlt, ist schnell von der Nachtblindheit die Rede. Aber ist jeder, der nachts schlecht sieht, gleich nachtblind? Die rbb Praxis klärt auf über echte und vermeintliche Nachtblindheit.\n
SUMMARY:Nachtblindheit
END:VEVENT
END:VCALENDAR
