BEGIN:VCALENDAR
X-WR-TIMEZONE:Europe/Berlin
X-WR-CALNAME:rbb-Kalender
VERSION:2.0
METHOD:PUBLISH
CALSCALE:GREGORIAN
PRODID:rbb-CMS DAY
BEGIN:VEVENT
CLASS:PUBLIC
URL:http://www.rbb-online.de/content/rbb/rbb/rbbpraxis/archiv/rbb_praxis_fernsehen94/blitzschnell-entspannt---pah-uebung.html
DTEND:20130515T201500
DTSTART:20130515T201500
UID:/content/rbb/rbb/rbbpraxis/archiv/rbb_praxis_fernsehen94/blitzschnell-entspannt---pah-uebung
DTSTAMP:20140406T184933
DESCRIPTION:Sie kommen nach Hause, werfen alles von sich. Um den Ballast des Tages loszuwerden, stellen wir Ihnen die "Pah-Übung" vor.\n
SUMMARY:Blitzschnell entspannt - Pah-Übung
END:VEVENT
END:VCALENDAR
