BEGIN:VCALENDAR
X-WR-TIMEZONE:Europe/Berlin
X-WR-CALNAME:rbb-Kalender
VERSION:2.0
METHOD:PUBLISH
CALSCALE:GREGORIAN
PRODID:rbb-CMS DAY
BEGIN:VEVENT
CLASS:PUBLIC
URL:http://www.rbb-online.de/content/rbb/rbb/rbbpraxis/archiv/rbb_praxis_fernsehen94/landarzt_mit_leidenschaft.html
DTEND:20130515T201500
DTSTART:20130515T201500
UID:/content/rbb/rbb/rbbpraxis/archiv/rbb_praxis_fernsehen94/landarzt_mit_leidenschaft
DTSTAMP:20140406T185033
DESCRIPTION:Fast ein Viertel der Ärzte in Brandenburg ist älter als 60 Jahre. Je weiter draußen die Praxis liegt, desto schwieriger wird die Suche nach einem Nachfolger. Zurzeit fehlen in Brandenburg 120 Hausärzte, unter den Fachärzten mangelt es vor allem an Hautspezialisten. Der 40-jährige Stefan Höhne gehört zu den jüngeren Ärzte, die sich bewusst dazu entschließen, auf dem Land zu praktizieren. Von Zehdenick aus versorgt er etwa 1500 Patienten pro Quartal.\n
SUMMARY:Landarzt mit Leidenschaft - Stefan Höhne
END:VEVENT
END:VCALENDAR
