BEGIN:VCALENDAR
X-WR-TIMEZONE:Europe/Berlin
X-WR-CALNAME:rbb-Kalender
VERSION:2.0
METHOD:PUBLISH
CALSCALE:GREGORIAN
PRODID:rbb-CMS DAY
BEGIN:VEVENT
CLASS:PUBLIC
URL:http://www.rbb-online.de/content/rbb/rbb/rbbpraxis/archiv/rbb_praxis_fernsehen94/rbb-praxis-news.html
DTEND:20130515T201500
DTSTART:20130515T201500
UID:/content/rbb/rbb/rbbpraxis/archiv/rbb_praxis_fernsehen94/rbb-praxis-news
DTSTAMP:20140406T184943
DESCRIPTION:+++ Neue Notaufnahme am Unfallklinikum Marzahn +++ Warnung vor gefährlichem Virus +++ Fettkiller Wassermelone +++\n\n\n
SUMMARY:rbb PRAXIS News
END:VEVENT
END:VCALENDAR
