BEGIN:VCALENDAR
X-WR-TIMEZONE:Europe/Berlin
X-WR-CALNAME:rbb-Kalender
VERSION:2.0
METHOD:PUBLISH
CALSCALE:GREGORIAN
PRODID:rbb-CMS DAY
BEGIN:VEVENT
CLASS:PUBLIC
URL:http://www.rbb-online.de/content/rbb/rbb/rbbpraxis/archiv/rbb_praxis_fernsehen95/kreuzbandriss___konservativ.html
DTEND:20130522T201500
DTSTART:20130522T201500
UID:/content/rbb/rbb/rbbpraxis/archiv/rbb_praxis_fernsehen95/kreuzbandriss___konservativ
DTSTAMP:20140406T182514
DESCRIPTION:Es trifft nicht nur Sportler, denn es reicht schon eine ungeschickte Kniedrehung und das Kreuzband reißt. Muss dann immer operiert werden? Und was passiert, wenn die Operation keinen dauerhaften Erfolg bringt? \nDie rbb PRAXIS informiert und zeigt, wie man mit einfachen Übungen das Knie stabilisieren kann. \n
SUMMARY:Kreuzbandriss - konservativ behandeln oder operieren?
END:VEVENT
END:VCALENDAR
