BEGIN:VCALENDAR
X-WR-TIMEZONE:Europe/Berlin
X-WR-CALNAME:rbb-Kalender
VERSION:2.0
METHOD:PUBLISH
CALSCALE:GREGORIAN
PRODID:rbb-CMS DAY
BEGIN:VEVENT
CLASS:PUBLIC
URL:http://www.rbb-online.de/content/rbb/rbb/rbbpraxis/archiv/rbb_praxis_fernsehen96.html
DTEND:20130529T201500
DTSTART:20130529T201500
UID:/content/rbb/rbb/rbbpraxis/archiv/rbb_praxis_fernsehen96
DTSTAMP:20140405T201730
DESCRIPTION:Der Berliner Patient - Geheilt von AIDS\n\n\n
SUMMARY:rbb PRAXIS Fernsehen vom 29.05.2013
END:VEVENT
END:VCALENDAR
