BEGIN:VCALENDAR
X-WR-TIMEZONE:Europe/Berlin
X-WR-CALNAME:rbb-Kalender
VERSION:2.0
METHOD:PUBLISH
CALSCALE:GREGORIAN
PRODID:rbb-CMS DAY
BEGIN:VEVENT
CLASS:PUBLIC
URL:http://www.rbb-online.de/content/rbb/rbb/rbbpraxis/archiv/rbb_praxis_fernsehen97/fliegen_nach_operationen.html
DTEND:20130605T201500
DTSTART:20130605T201500
UID:/content/rbb/rbb/rbbpraxis/archiv/rbb_praxis_fernsehen97/fliegen_nach_operationen
DTSTAMP:20140406T182759
DESCRIPTION:Der Sommer ist kalt und nass, die Deutschen zieht es ins Ausland. Am schnellsten gelangt man mit dem Flieger in den warmen Süden. Viele Herzpatienten sind aber unsicher, ob eine Flugreise ihrer Gesundheit schaden könnte. Grundsätzlich ist das nicht der Fall – Betroffene sollten aber das individuelle Risiko mit ihrem Arzt absprechen.\n
SUMMARY:Fliegen mit Herzerkrankungen
END:VEVENT
END:VCALENDAR
