BEGIN:VCALENDAR
X-WR-TIMEZONE:Europe/Berlin
X-WR-CALNAME:rbb-Kalender
VERSION:2.0
METHOD:PUBLISH
CALSCALE:GREGORIAN
PRODID:rbb-CMS DAY
BEGIN:VEVENT
CLASS:PUBLIC
URL:http://www.rbb-online.de/content/rbb/rbb/rbbspezial/archiv/100-Tage-Ministerpraesident-Woidke.html
DTEND:20131204T221500
DTSTART:20131204T221500
UID:/content/rbb/rbb/rbbspezial/archiv/100-Tage-Ministerpraesident-Woidke
DTSTAMP:20140405T022546
DESCRIPTION:Vor knapp 100 Tagen ist Dietmar Woidke zum Ministerpräsidenten des Landes Brandenburg gewählt worden, er trat die Nachfolge von Matthias Platzeck an. Dirk Platt befragt den 52-jährigen Politiker aus Forst nach seinen Herausforderungen und Plänen.\n
SUMMARY:100 Tage Ministerpräsident Woidke
END:VEVENT
END:VCALENDAR
