BEGIN:VCALENDAR
X-WR-TIMEZONE:Europe/Berlin
X-WR-CALNAME:rbb-Kalender
VERSION:2.0
METHOD:PUBLISH
CALSCALE:GREGORIAN
PRODID:rbb-CMS DAY
BEGIN:VEVENT
CLASS:PUBLIC
URL:http://www.rbb-online.de/content/rbb/rbb/rbbspezial/archiv/rbb_spezial2.html
DTEND:20130729T201500
DTSTART:20130729T201500
UID:/content/rbb/rbb/rbbspezial/archiv/rbb_spezial2
DTSTAMP:20140405T022713
DESCRIPTION:Brandenburgs Ministerpräsident Matthias Platzeck (SPD) steht vor einem Rückzug aus seinen politischen Ämtern. Nach Informationen des rbb wird er heute ankündigen, Ende August auch als SPD-Landeschef zurückzutreten.
SUMMARY:Platzecks Rückzug
END:VEVENT
END:VCALENDAR
