BEGIN:VCALENDAR
X-WR-TIMEZONE:Europe/Berlin
X-WR-CALNAME:rbb-Kalender
VERSION:2.0
METHOD:PUBLISH
CALSCALE:GREGORIAN
PRODID:rbb-CMS DAY
BEGIN:VEVENT
CLASS:PUBLIC
URL:http://www.rbb-online.de/content/rbb/rbb/rbbspezial/archiv/rbb_spezial__hitzewelle.html
DTEND:20130726T201500
DTSTART:20130726T201500
UID:/content/rbb/rbb/rbbspezial/archiv/rbb_spezial__hitzewelle
DTSTAMP:20140405T022538
DESCRIPTION:Am heutigen Freitag wird es sehr heiß, über 31 Grad Celius werden erwartet. Am Wochenende wird es wohl noch heißer, so dass die Meteorologen eine Hitzewarnung herausgegeben haben. Was bedeutet das für die Berliner und Brandenburger, vor allem für die, die arbeiten müssen oder im Krankenhaus liegen?
SUMMARY:rbb SPEZIAL: Hitzewelle in Berlin und Brandenburg
END:VEVENT
END:VCALENDAR
