BEGIN:VCALENDAR
X-WR-TIMEZONE:Europe/Berlin
X-WR-CALNAME:rbb-Kalender
VERSION:2.0
METHOD:PUBLISH
CALSCALE:GREGORIAN
PRODID:rbb-CMS DAY
BEGIN:VEVENT
CLASS:PUBLIC
URL:http://www.rbb-online.de/content/rbb/rbb/rbbspezial/archiv/rbb_spezial__hochwasser2.html
DTEND:20130613T201500
DTSTART:20130613T201500
UID:/content/rbb/rbb/rbbspezial/archiv/rbb_spezial__hochwasser2
DTSTAMP:20140405T022704
DESCRIPTION:Am Donnerstagmorgen sank der Wasserstand in Wittenberge (Prignitz) auf 7,32 Meter, knapp unter dem Höchstwert des Hochwassers von 2002. Aber für eine Entwarnung ist es zu früh, denn das Wasser drückt nach wie vor massiv auf die Deiche.
SUMMARY:rbb SPEZIAL: Hochwasser in Brandenburg
END:VEVENT
END:VCALENDAR
