BEGIN:VCALENDAR
X-WR-TIMEZONE:Europe/Berlin
X-WR-CALNAME:rbb-Kalender
VERSION:2.0
METHOD:PUBLISH
CALSCALE:GREGORIAN
PRODID:rbb-CMS DAY
BEGIN:VEVENT
CLASS:PUBLIC
URL:http://www.rbb-online.de/content/rbb/rbb/rbbspezial/archiv/rbb_spezial__obama.html
DTEND:20130619T201500
DTSTART:20130619T201500
UID:/content/rbb/rbb/rbbspezial/archiv/rbb_spezial__obama
DTSTAMP:20140405T022837
DESCRIPTION:Erst ein Empfang bei Bundespräsident Gauck, dann gings zum Arbeitsessen mit der Bundeskanzlerin und dann hielt er seine Rede am Brandenburger Tor.\n\n\n
SUMMARY:rbb SPEZIAL: Obama in Berlin
END:VEVENT
END:VCALENDAR
