BEGIN:VCALENDAR
X-WR-TIMEZONE:Europe/Berlin
X-WR-CALNAME:rbb-Kalender
VERSION:2.0
METHOD:PUBLISH
CALSCALE:GREGORIAN
PRODID:rbb-CMS DAY
BEGIN:VEVENT
CLASS:PUBLIC
URL:http://www.rbb-online.de/content/rbb/rbb/rbbsportplatz/archiv/20140330_2220/10.html
DTEND:20140330T230000
DTSTART:20140330T222000
UID:/content/rbb/rbb/rbbsportplatz/archiv/20140330_2220/10
DTSTAMP:20140405T050331
DESCRIPTION:Die Füchse Berlin machen nicht nur aus der Not eine Tugend. Zwar fehlten viele verletzte Stammkräfte, aber die Füchse setzen auch aus der Vereinsphilosophie heraus auf den eigenen Nachwuchs. Jüngst in Hamburg kassierte die junge Mannschaft eine Klatsche und musste sich den Vorwurf der Wettbewerbsverzerrung anhören.\n\n"Alles Quatsch", konterten die Berliner und traten auch im EHF Pokal gegen Holovec stark verjüngt an.\n\n\n\n\n
SUMMARY:Füchse Berlin - Sporta Hlohovec 34:28
END:VEVENT
END:VCALENDAR
