BEGIN:VCALENDAR
X-WR-TIMEZONE:Europe/Berlin
X-WR-CALNAME:rbb-Kalender
VERSION:2.0
METHOD:PUBLISH
CALSCALE:GREGORIAN
PRODID:rbb-CMS DAY
BEGIN:VEVENT
CLASS:PUBLIC
URL:http://www.rbb-online.de/content/rbb/rbb/rbbsportplatz/archiv/20140330_2220/7.html
DTEND:20140330T230000
DTSTART:20140330T222000
UID:/content/rbb/rbb/rbbsportplatz/archiv/20140330_2220/7
DTSTAMP:20140405T050412
DESCRIPTION:Die Albatrosse sind erneut Pokalsieger. Mit 86:80 gewannen die Berliner gegen Ulm. Zum achten Mal konnte Alba Berlin den Pokalsieg für sich verbuchen. "Vor der Saison hat uns das keiner zugetraut", sagte Nationalspieler Jan Jagla nach der Partie. "Wir haben ein hervorragendes Finale gegen Ulm gezeigt und haben uns diesen Sieg nach den Strapazen der letzten Monate verdient."\n
SUMMARY:Alba Berlin gewinnt erneut den Pokal
END:VEVENT
END:VCALENDAR
