BEGIN:VCALENDAR
X-WR-TIMEZONE:Europe/Berlin
X-WR-CALNAME:rbb-Kalender
VERSION:2.0
METHOD:PUBLISH
CALSCALE:GREGORIAN
PRODID:rbb-CMS DAY
BEGIN:VEVENT
CLASS:PUBLIC
URL:http://www.rbb-online.de/content/rbb/rbb/rbbsportplatz/archiv/20140406_2220/armwrestling.html
DTEND:20140406T230000
DTSTART:20140406T222000
UID:/content/rbb/rbb/rbbsportplatz/archiv/20140406_2220/armwrestling
DTSTAMP:20140408T171807
DESCRIPTION:Am Wochenende fanden in Frankfurt/Oder die Deutschen Meisterschaften im Armwrestling statt. Wer bei diesem Kampfsport an ein Kneipenvergnügen denkt, täuscht sich. Gekämpft wird an einem 1.04 m hohen Tisch im Stehen. Ein Haltegriff am Tischrand dient den Athleten als Gegenpol für die freie Hand. Wer krönte sich diesmal zum Deutschen Meister? \n\n\n
SUMMARY:Armwrestling-DM aus Frankfurt/Oder
END:VEVENT
END:VCALENDAR
