BEGIN:VCALENDAR
X-WR-TIMEZONE:Europe/Berlin
X-WR-CALNAME:rbb-Kalender
VERSION:2.0
METHOD:PUBLISH
CALSCALE:GREGORIAN
PRODID:rbb-CMS DAY
BEGIN:VEVENT
CLASS:PUBLIC
URL:http://www.rbb-online.de/content/rbb/rbb/rbbsportplatz/archiv/20140406_2220/cottbus-enttaeuscht-erneut.html
DTEND:20140406T230000
DTSTART:20140406T222000
UID:/content/rbb/rbb/rbbsportplatz/archiv/20140406_2220/cottbus-enttaeuscht-erneut
DTSTAMP:20140408T181028
DESCRIPTION:Zweitliga-Tabellenschlusslicht FC Energie Cottbus und der Tabellen-16. Dynamo Dresden trennten sich am Freitagabend im direkten Abstiegsduell 0:0. Vor 18.500 Zuschauern im ausverkauften Stadion der Freundschaft lebte das Spiel von Fehlern und der Dramaturgie der Tabellensituation. Für das Team von Jörg Böhme ist es das dritte Spiel ohne Sieg. Zu wenig, denn bei nun zehn Punkten Rückstand auf Tabellenplatz 15 ist für die Lausitzer nur noch das Erreichen der Relegation in Reichweite. \n
SUMMARY:Cottbus enttäuscht in Abstiegskampf
END:VEVENT
END:VCALENDAR
