BEGIN:VCALENDAR
X-WR-TIMEZONE:Europe/Berlin
X-WR-CALNAME:rbb-Kalender
VERSION:2.0
METHOD:PUBLISH
CALSCALE:GREGORIAN
PRODID:rbb-CMS DAY
BEGIN:VEVENT
CLASS:PUBLIC
URL:http://www.rbb-online.de/content/rbb/rbb/rbbsportplatz/archiv/20140406_2220/hertha-kann-weiter-nicht-gewinnen.html
DTEND:20140406T230000
DTSTART:20140406T222000
UID:/content/rbb/rbb/rbbsportplatz/archiv/20140406_2220/hertha-kann-weiter-nicht-gewinnen
DTSTAMP:20140408T180947
DESCRIPTION:Durch das 1:1 gegen Hoffenheim hält die Sieglos-Serie von Aufsteiger Hertha BSC an. Mit dem Remis verspielten beide Teams ihre wohl letzte Chance auf einen Europapokalplatz. Der Sieger wäre bis auf fünf Punkte an Platz sieben herangerückt, der in dieser Saison zur Europa League-Qualifikation reichen könnte.\n
SUMMARY:Hertha kann weiter nicht gewinnen
END:VEVENT
END:VCALENDAR
