BEGIN:VCALENDAR
X-WR-TIMEZONE:Europe/Berlin
X-WR-CALNAME:rbb-Kalender
VERSION:2.0
METHOD:PUBLISH
CALSCALE:GREGORIAN
PRODID:rbb-CMS DAY
BEGIN:VEVENT
CLASS:PUBLIC
URL:http://www.rbb-online.de/content/rbb/rbb/rbbsportplatz/archiv/20140406_2220/mal-unter-uns.html
DTEND:20140406T230000
DTSTART:20140406T222000
UID:/content/rbb/rbb/rbbsportplatz/archiv/20140406_2220/mal-unter-uns
DTSTAMP:20140408T181020
DESCRIPTION:Am Donnerstag bekam Otto Rehhagel den DFB-Ehrenpreis für sein Lebenswerk  überreicht. Damit ist der 75-Jährige offiziell in den Kreis der Größten in der deutschen Trainerzunft erhoben worden. Torsten Michels blickt auf die außergewöhnliche Laufbahn von "König Otto". \n
SUMMARY:Mal unter uns mit Otto Rehhagel
END:VEVENT
END:VCALENDAR
