BEGIN:VCALENDAR
X-WR-TIMEZONE:Europe/Berlin
X-WR-CALNAME:rbb-Kalender
VERSION:2.0
METHOD:PUBLISH
CALSCALE:GREGORIAN
PRODID:rbb-CMS DAY
BEGIN:VEVENT
CLASS:PUBLIC
URL:http://www.rbb-online.de/content/rbb/rbb/rbbsportplatz/archiv/20140406_2220/preetz.html
DTEND:20140406T230000
DTSTART:20140406T222000
UID:/content/rbb/rbb/rbbsportplatz/archiv/20140406_2220/preetz
DTSTAMP:20140408T180935
DESCRIPTION:Nach dem Heimspiel gegen die TSG Hoffenheim sprach Dietmar Teige mit Berlins Manager Michael Preetz über das Spiel, Adrian Ramos und Pierre-Michel Lassoga.\n\n\n
SUMMARY:Manager Michael Preetz im Interview
END:VEVENT
END:VCALENDAR
