BEGIN:VCALENDAR
X-WR-TIMEZONE:Europe/Berlin
X-WR-CALNAME:rbb-Kalender
VERSION:2.0
METHOD:PUBLISH
CALSCALE:GREGORIAN
PRODID:rbb-CMS DAY
BEGIN:VEVENT
CLASS:PUBLIC
URL:http://www.rbb-online.de/content/rbb/rbb/rbbsportplatz/archiv/20140406_2220/union-verliert.html
DTEND:20140406T230000
DTSTART:20140406T222000
UID:/content/rbb/rbb/rbbsportplatz/archiv/20140406_2220/union-verliert
DTSTAMP:20140408T180926
DESCRIPTION:Der 1.FC Union Berlin wartet in der 2.Liga weiterhin auf den ersten Auswärtssieg im Jahr 2014. Die Köpenicker unterlagen am Sonntag in einem torreichen Derby bei Erzgebirge Aue mit 2:3 (2:2). Nach der heutigen Niederlage dürften auch die letzten Aufstiegsträumereien ad acta gelegt werden.\n
SUMMARY:Union verliert 2:3 - Aufstieg ade
END:VEVENT
END:VCALENDAR
