BEGIN:VCALENDAR
X-WR-TIMEZONE:Europe/Berlin
X-WR-CALNAME:rbb-Kalender
VERSION:2.0
METHOD:PUBLISH
CALSCALE:GREGORIAN
PRODID:rbb-CMS DAY
BEGIN:VEVENT
CLASS:PUBLIC
URL:http://www.rbb-online.de/content/rbb/rbb/rbbumsechs/archiv/20140331_1800/lamanachwuchs-im-zoo-halle.html
DTEND:20140331T182500
DTSTART:20140331T180000
UID:/content/rbb/rbb/rbbumsechs/archiv/20140331_1800/lamanachwuchs-im-zoo-halle
DTSTAMP:20140405T024831
DESCRIPTION:Erneut gab es Nachwuchs bei den Lamas im Bergzoo Halle. In dem Lamagehege teilt sich ein Männchen sein Reich mit fünf Damen.\n\n\n
SUMMARY:Lamanachwuchs im Bergzoo Halle
END:VEVENT
END:VCALENDAR
