BEGIN:VCALENDAR
X-WR-TIMEZONE:Europe/Berlin
X-WR-CALNAME:rbb-Kalender
VERSION:2.0
METHOD:PUBLISH
CALSCALE:GREGORIAN
PRODID:rbb-CMS DAY
BEGIN:VEVENT
CLASS:PUBLIC
URL:http://www.rbb-online.de/content/rbb/rbb/rbbumsechs/archiv/20140401_1800.html
DTEND:20140401T182500
DTSTART:20140401T180000
UID:/content/rbb/rbb/rbbumsechs/archiv/20140401_1800
DTSTAMP:20140404T190601
DESCRIPTION:Dampflok-Legende +++ Selbstverteidigung im Krankenhaus +++ Korallen für Rostock\n\n\n\n\n\n\n
SUMMARY:rbb UM SECHS - Das Ländermagazin 01.04.2014 18:00
END:VEVENT
END:VCALENDAR
